BEGIN:VCALENDAR
VERSION:2.0
PRODID:-//hacksw/handcal//NONSGML v1.0//EN
BEGIN:VEVENT
UID:6936
DTSTART;VALUE=DATE:20161001
URL;VALUE=URI:ohschonhell.at/?page_id=13363
SUMMARY:Guten Abend! II Dubspeeka II drumcode\, senso sounds
LOCATION:SASS
END:VEVENT
END:VCALENDAR


