BEGIN:VCALENDAR
VERSION:2.0
PRODID:-//hacksw/handcal//NONSGML v1.0//EN
BEGIN:VEVENT
UID:694
DTSTART;VALUE=DATE:20140304
URL;VALUE=URI:ohschonhell.at/?page_id=3153
SUMMARY:room #5 - Der Faschings Rave
LOCATION:FLUCC
END:VEVENT
END:VCALENDAR


