BEGIN:VCALENDAR
VERSION:2.0
PRODID:-//hacksw/handcal//NONSGML v1.0//EN
BEGIN:VEVENT
UID:6941
DTSTART;VALUE=DATE:20160921
URL;VALUE=URI:ohschonhell.at/?page_id=13373
SUMMARY:KanalTechno - Last Summer Dance &lt\;3
LOCATION:FLEX
END:VEVENT
END:VCALENDAR


