BEGIN:VCALENDAR
VERSION:2.0
PRODID:-//hacksw/handcal//NONSGML v1.0//EN
BEGIN:VEVENT
UID:6946
DTSTART;VALUE=DATE:20160915
URL;VALUE=URI:ohschonhell.at/?page_id=13383
SUMMARY:Ein Donnerstag wie Früher
LOCATION:SASS
END:VEVENT
END:VCALENDAR


