BEGIN:VCALENDAR
VERSION:2.0
PRODID:-//hacksw/handcal//NONSGML v1.0//EN
BEGIN:VEVENT
UID:6947
DTSTART;VALUE=DATE:20160914
URL;VALUE=URI:ohschonhell.at/?page_id=13385
SUMMARY:David &amp\; Goliath Reopening mit Alex Eigner\, Rauschebart
LOCATION:Kramladen
END:VEVENT
END:VCALENDAR


