BEGIN:VCALENDAR
VERSION:2.0
PRODID:-//hacksw/handcal//NONSGML v1.0//EN
BEGIN:VEVENT
UID:6966
DTSTART;VALUE=DATE:20160924
URL;VALUE=URI:ohschonhell.at/?page_id=13426
SUMMARY:Jux &amp\; Tollerei
LOCATION:OPERA CLUB
END:VEVENT
END:VCALENDAR


