BEGIN:VCALENDAR
VERSION:2.0
PRODID:-//hacksw/handcal//NONSGML v1.0//EN
BEGIN:VEVENT
UID:6975
DTSTART;VALUE=DATE:20160928
URL;VALUE=URI:ohschonhell.at/?page_id=13445
SUMMARY:All Souled House mit LIVE: Conner Youngblood
LOCATION:FLUCC
END:VEVENT
END:VCALENDAR


