BEGIN:VCALENDAR
VERSION:2.0
PRODID:-//hacksw/handcal//NONSGML v1.0//EN
BEGIN:VEVENT
UID:6980
DTSTART;VALUE=DATE:20160930
URL;VALUE=URI:ohschonhell.at/?page_id=13455
SUMMARY:L_P Herbstklang
LOCATION:DUAL
END:VEVENT
END:VCALENDAR


