BEGIN:VCALENDAR
VERSION:2.0
PRODID:-//hacksw/handcal//NONSGML v1.0//EN
BEGIN:VEVENT
UID:6994
DTSTART;VALUE=DATE:20160923
URL;VALUE=URI:ohschonhell.at/?page_id=13484
SUMMARY:Technolog // elektro gönner
LOCATION:ELEKTRO GÖNNER
END:VEVENT
END:VCALENDAR


