BEGIN:VCALENDAR
VERSION:2.0
PRODID:-//hacksw/handcal//NONSGML v1.0//EN
BEGIN:VEVENT
UID:6997
DTSTART;VALUE=DATE:20161031
URL;VALUE=URI:ohschonhell.at/?page_id=13491
SUMMARY:Halloween Special - The Dark Forest
LOCATION:WU MENSA
END:VEVENT
END:VCALENDAR


