BEGIN:VCALENDAR
VERSION:2.0
PRODID:-//hacksw/handcal//NONSGML v1.0//EN
BEGIN:VEVENT
UID:7003
DTSTART;VALUE=DATE:20161027
URL;VALUE=URI:ohschonhell.at/?page_id=13504
SUMMARY:Tricky! Halloween WARM UP
LOCATION:FLUCC
END:VEVENT
END:VCALENDAR


