BEGIN:VCALENDAR
VERSION:2.0
PRODID:-//hacksw/handcal//NONSGML v1.0//EN
BEGIN:VEVENT
UID:7005
DTSTART;VALUE=DATE:20161022
URL;VALUE=URI:ohschonhell.at/?page_id=13508
SUMMARY:Ehrlich Techno Opening
LOCATION:VIPER ROOM
END:VEVENT
END:VCALENDAR


