BEGIN:VCALENDAR
VERSION:2.0
PRODID:-//hacksw/handcal//NONSGML v1.0//EN
BEGIN:VEVENT
UID:7017
DTSTART;VALUE=DATE:20161008
URL;VALUE=URI:ohschonhell.at/?page_id=13532
SUMMARY:FLIEHKRAFT003: A Space Odyssey
LOCATION:OPERA CLUB
END:VEVENT
END:VCALENDAR


