BEGIN:VCALENDAR
VERSION:2.0
PRODID:-//hacksw/handcal//NONSGML v1.0//EN
BEGIN:VEVENT
UID:7030
DTSTART;VALUE=DATE:20160930
URL;VALUE=URI:ohschonhell.at/?page_id=13558
SUMMARY:Elektroland PARTY
LOCATION:ELEKTRO GÖNNER
END:VEVENT
END:VCALENDAR


