BEGIN:VCALENDAR
VERSION:2.0
PRODID:-//hacksw/handcal//NONSGML v1.0//EN
BEGIN:VEVENT
UID:7032
DTSTART;VALUE=DATE:20160930
URL;VALUE=URI:ohschonhell.at/?page_id=13562
SUMMARY:Radio The Label-Bar: 25 (Monate)!
LOCATION:RADIO - THE LABEL BAR
END:VEVENT
END:VCALENDAR


