BEGIN:VCALENDAR
VERSION:2.0
PRODID:-//hacksw/handcal//NONSGML v1.0//EN
BEGIN:VEVENT
UID:7034
DTSTART;VALUE=DATE:20160929
URL;VALUE=URI:ohschonhell.at/?page_id=13566
SUMMARY:Entkunstung
LOCATION:ELEKTRO GÖNNER
END:VEVENT
END:VCALENDAR


