BEGIN:VCALENDAR
VERSION:2.0
PRODID:-//hacksw/handcal//NONSGML v1.0//EN
BEGIN:VEVENT
UID:7058
DTSTART;VALUE=DATE:20161109
URL;VALUE=URI:ohschonhell.at/?page_id=13614
SUMMARY:David &amp\; Goliath meets Subetasch Kollektiv
LOCATION:Kramladen
END:VEVENT
END:VCALENDAR


