BEGIN:VCALENDAR
VERSION:2.0
PRODID:-//hacksw/handcal//NONSGML v1.0//EN
BEGIN:VEVENT
UID:7075
DTSTART;VALUE=DATE:20161020
URL;VALUE=URI:ohschonhell.at/?page_id=13648
SUMMARY:Donnerstag Nacht mit Nhan Solo
LOCATION:SASS
END:VEVENT
END:VCALENDAR


