BEGIN:VCALENDAR
VERSION:2.0
PRODID:-//hacksw/handcal//NONSGML v1.0//EN
BEGIN:VEVENT
UID:7079
DTSTART;VALUE=DATE:20161012
URL;VALUE=URI:ohschonhell.at/?page_id=13656
SUMMARY:David &amp\; Goliath&#039\;s Friends from Cologne: Vyrtus and Heiner
LOCATION:Kramladen
END:VEVENT
END:VCALENDAR


