BEGIN:VCALENDAR
VERSION:2.0
PRODID:-//hacksw/handcal//NONSGML v1.0//EN
BEGIN:VEVENT
UID:7096
DTSTART;VALUE=DATE:20161011
URL;VALUE=URI:ohschonhell.at/?page_id=13696
SUMMARY:Kunstschatzi - Cocktailbar &amp\; DJ-LineUp in der Kuppelhalle
LOCATION:KUNSTHISTORISCHES MUSEUM
END:VEVENT
END:VCALENDAR


