BEGIN:VCALENDAR
VERSION:2.0
PRODID:-//hacksw/handcal//NONSGML v1.0//EN
BEGIN:VEVENT
UID:7099
DTSTART;VALUE=DATE:20161111
URL;VALUE=URI:ohschonhell.at/?page_id=13703
SUMMARY:Flexible&quot\;Psytrance Night&quot\; with Materia\,Tristate\,Funky Dragon\,uvm
LOCATION:FLEX
END:VEVENT
END:VCALENDAR


