BEGIN:VCALENDAR
VERSION:2.0
PRODID:-//hacksw/handcal//NONSGML v1.0//EN
BEGIN:VEVENT
UID:7112
DTSTART;VALUE=DATE:20161026
URL;VALUE=URI:ohschonhell.at/?page_id=13732
SUMMARY:David &amp\; Goliath: Down mit Jux &amp\; Tollerei
LOCATION:Kramladen
END:VEVENT
END:VCALENDAR


