BEGIN:VCALENDAR
VERSION:2.0
PRODID:-//hacksw/handcal//NONSGML v1.0//EN
BEGIN:VEVENT
UID:7122
DTSTART;VALUE=DATE:20161111
URL;VALUE=URI:ohschonhell.at/?page_id=13752
SUMMARY:Switch! presents Hizzleguy
LOCATION:AUSLAGE
END:VEVENT
END:VCALENDAR


