BEGIN:VCALENDAR
VERSION:2.0
PRODID:-//hacksw/handcal//NONSGML v1.0//EN
BEGIN:VEVENT
UID:7138
DTSTART;VALUE=DATE:20161028
URL;VALUE=URI:ohschonhell.at/?page_id=13784
SUMMARY:Instinkt w/ Timid Boy - time has changed - Paris
LOCATION:AUSLAGE
END:VEVENT
END:VCALENDAR


