BEGIN:VCALENDAR
VERSION:2.0
PRODID:-//hacksw/handcal//NONSGML v1.0//EN
BEGIN:VEVENT
UID:7143
DTSTART;VALUE=DATE:20161022
URL;VALUE=URI:ohschonhell.at/?page_id=13794
SUMMARY:Get Whipped every saturday at Volksgarten
LOCATION:VOLKSGARTEN
END:VEVENT
END:VCALENDAR


