BEGIN:VCALENDAR
VERSION:2.0
PRODID:-//hacksw/handcal//NONSGML v1.0//EN
BEGIN:VEVENT
UID:7144
DTSTART;VALUE=DATE:20161022
URL;VALUE=URI:ohschonhell.at/?page_id=13796
SUMMARY:Fairys\, Unicorns &amp\; Freaks
LOCATION:RADIO - THE LABEL BAR
END:VEVENT
END:VCALENDAR


