BEGIN:VCALENDAR
VERSION:2.0
PRODID:-//hacksw/handcal//NONSGML v1.0//EN
BEGIN:VEVENT
UID:715
DTSTART;VALUE=DATE:20140215
URL;VALUE=URI:ohschonhell.at/?page_id=3174
SUMMARY:BAUER + 1
LOCATION:KIOSK SCHLEIFMÜHLGASSE
END:VEVENT
END:VCALENDAR


