BEGIN:VCALENDAR
VERSION:2.0
PRODID:-//hacksw/handcal//NONSGML v1.0//EN
BEGIN:VEVENT
UID:716
DTSTART;VALUE=DATE:20140214
URL;VALUE=URI:ohschonhell.at/?page_id=3175
SUMMARY:VENERDI - THE FINAL VALENTINE -
LOCATION:BAR ITALIA
END:VEVENT
END:VCALENDAR


