BEGIN:VCALENDAR
VERSION:2.0
PRODID:-//hacksw/handcal//NONSGML v1.0//EN
BEGIN:VEVENT
UID:7160
DTSTART;VALUE=DATE:20161118
URL;VALUE=URI:ohschonhell.at/?page_id=13829
SUMMARY:Meuterei x Agents of Time
LOCATION:GRELLE FORELLE
END:VEVENT
END:VCALENDAR


