BEGIN:VCALENDAR
VERSION:2.0
PRODID:-//hacksw/handcal//NONSGML v1.0//EN
BEGIN:VEVENT
UID:7163
DTSTART;VALUE=DATE:20161031
URL;VALUE=URI:ohschonhell.at/?page_id=13835
SUMMARY:Das große Volksgarten Halloween Special
LOCATION:VOLKSGARTEN
END:VEVENT
END:VCALENDAR


