BEGIN:VCALENDAR
VERSION:2.0
PRODID:-//hacksw/handcal//NONSGML v1.0//EN
BEGIN:VEVENT
UID:7165
DTSTART;VALUE=DATE:20161029
URL;VALUE=URI:ohschonhell.at/?page_id=13839
SUMMARY:Tiefton Anomalien
LOCATION:DUAL
END:VEVENT
END:VCALENDAR


