BEGIN:VCALENDAR
VERSION:2.0
PRODID:-//hacksw/handcal//NONSGML v1.0//EN
BEGIN:VEVENT
UID:7169
DTSTART;VALUE=DATE:20161025
URL;VALUE=URI:ohschonhell.at/?page_id=13850
SUMMARY:Gürtel Connection #2 | 50 Acts &amp\; DJ´s\, 12 Locations\, 1 Eintritt.
LOCATION:AUSLAGE
END:VEVENT
END:VCALENDAR


