BEGIN:VCALENDAR
VERSION:2.0
PRODID:-//hacksw/handcal//NONSGML v1.0//EN
BEGIN:VEVENT
UID:719
DTSTART;VALUE=DATE:20140308
URL;VALUE=URI:ohschonhell.at/?page_id=3178
SUMMARY:MALEN NACH ZAHLEN X MODEAKT AFTERSHOWPARTY w/ Mosbee
LOCATION:AUSLAGE
END:VEVENT
END:VCALENDAR


