BEGIN:VCALENDAR
VERSION:2.0
PRODID:-//hacksw/handcal//NONSGML v1.0//EN
BEGIN:VEVENT
UID:7194
DTSTART;VALUE=DATE:20161101
URL;VALUE=URI:ohschonhell.at/?page_id=13903
SUMMARY:Katerfrühstück ZWEI.
LOCATION:ENDSTATION HALTESTELLE 1er
END:VEVENT
END:VCALENDAR


