BEGIN:VCALENDAR
VERSION:2.0
PRODID:-//hacksw/handcal//NONSGML v1.0//EN
BEGIN:VEVENT
UID:7196
DTSTART;VALUE=DATE:20161104
URL;VALUE=URI:ohschonhell.at/?page_id=13907
SUMMARY:EAVO presents Deeperfect w/ Stefano Noferini\, Miguel Bastida\, Carlo Ruetz\, Matt Sassari
LOCATION:Event Arena Vösendorf
END:VEVENT
END:VCALENDAR


