BEGIN:VCALENDAR
VERSION:2.0
PRODID:-//hacksw/handcal//NONSGML v1.0//EN
BEGIN:VEVENT
UID:7198
DTSTART;VALUE=DATE:20161104
URL;VALUE=URI:ohschonhell.at/?page_id=13911
SUMMARY:MÜRBE mit Jux &amp\; Tollerei
LOCATION:DUAL
END:VEVENT
END:VCALENDAR


