BEGIN:VCALENDAR
VERSION:2.0
PRODID:-//hacksw/handcal//NONSGML v1.0//EN
BEGIN:VEVENT
UID:7199
DTSTART;VALUE=DATE:20161031
URL;VALUE=URI:ohschonhell.at/?page_id=13913
SUMMARY:The UK Horror Menu Show
LOCATION:OPERA CLUB
END:VEVENT
END:VCALENDAR


