BEGIN:VCALENDAR
VERSION:2.0
PRODID:-//hacksw/handcal//NONSGML v1.0//EN
BEGIN:VEVENT
UID:7204
DTSTART;VALUE=DATE:20161111
URL;VALUE=URI:ohschonhell.at/?page_id=13926
SUMMARY:JACK N°1 - Who is Jack? - GRAND Opening
LOCATION:OPERA CLUB
END:VEVENT
END:VCALENDAR


