BEGIN:VCALENDAR
VERSION:2.0
PRODID:-//hacksw/handcal//NONSGML v1.0//EN
BEGIN:VEVENT
UID:7205
DTSTART;VALUE=DATE:20161118
URL;VALUE=URI:ohschonhell.at/?page_id=13928
SUMMARY:Discotropique meets Club Majik
LOCATION:Curtain
END:VEVENT
END:VCALENDAR


