BEGIN:VCALENDAR
VERSION:2.0
PRODID:-//hacksw/handcal//NONSGML v1.0//EN
BEGIN:VEVENT
UID:7206
DTSTART;VALUE=DATE:20161111
URL;VALUE=URI:ohschonhell.at/?page_id=13930
SUMMARY:Eternity WUK 11.11.2016
LOCATION:WUK
END:VEVENT
END:VCALENDAR


