BEGIN:VCALENDAR
VERSION:2.0
PRODID:-//hacksw/handcal//NONSGML v1.0//EN
BEGIN:VEVENT
UID:7207
DTSTART;VALUE=DATE:20161230
URL;VALUE=URI:ohschonhell.at/?page_id=13932
SUMMARY:Bassfabrique - Psychedelic Overdrive
LOCATION:VIPER ROOM
END:VEVENT
END:VCALENDAR


