BEGIN:VCALENDAR
VERSION:2.0
PRODID:-//hacksw/handcal//NONSGML v1.0//EN
BEGIN:VEVENT
UID:7222
DTSTART;VALUE=DATE:20161118
URL;VALUE=URI:ohschonhell.at/?page_id=13962
SUMMARY:Salto Capitale w/ Ober Mannkind
LOCATION:CLUB TITANIC
END:VEVENT
END:VCALENDAR


