BEGIN:VCALENDAR
VERSION:2.0
PRODID:-//hacksw/handcal//NONSGML v1.0//EN
BEGIN:VEVENT
UID:723
DTSTART;VALUE=DATE:20140218
URL;VALUE=URI:ohschonhell.at/?page_id=3182
SUMMARY:VELAK Gala #81 - Konzertreihe für experimentelle Musik
LOCATION:BRUT
END:VEVENT
END:VCALENDAR


