BEGIN:VCALENDAR
VERSION:2.0
PRODID:-//hacksw/handcal//NONSGML v1.0//EN
BEGIN:VEVENT
UID:7246
DTSTART;VALUE=DATE:20161125
URL;VALUE=URI:ohschonhell.at/?page_id=14012
SUMMARY:Kult! w/ Federico Molinari
LOCATION:SASS
END:VEVENT
END:VCALENDAR


