BEGIN:VCALENDAR
VERSION:2.0
PRODID:-//hacksw/handcal//NONSGML v1.0//EN
BEGIN:VEVENT
UID:7254
DTSTART;VALUE=DATE:20161118
URL;VALUE=URI:ohschonhell.at/?page_id=14028
SUMMARY:Fête’Fesch
LOCATION:AU
END:VEVENT
END:VCALENDAR


