BEGIN:VCALENDAR
VERSION:2.0
PRODID:-//hacksw/handcal//NONSGML v1.0//EN
BEGIN:VEVENT
UID:7265
DTSTART;VALUE=DATE:20161215
URL;VALUE=URI:ohschonhell.at/?page_id=14048
SUMMARY:Elektro-STAMMTISCH &amp\; Weihnachtsfeier
LOCATION:Ruby Marie Hotel & Bar
END:VEVENT
END:VCALENDAR


