BEGIN:VCALENDAR
VERSION:2.0
PRODID:-//hacksw/handcal//NONSGML v1.0//EN
BEGIN:VEVENT
UID:7278
DTSTART;VALUE=DATE:20161119
URL;VALUE=URI:ohschonhell.at/?page_id=14074
SUMMARY:ZWElGLElSlG x Absolut // Ipek / Berlin
LOCATION:DUAL
END:VEVENT
END:VCALENDAR


