BEGIN:VCALENDAR
VERSION:2.0
PRODID:-//hacksw/handcal//NONSGML v1.0//EN
BEGIN:VEVENT
UID:728
DTSTART;VALUE=DATE:20140304
URL;VALUE=URI:ohschonhell.at/?page_id=3187
SUMMARY:★★ CARNIVAL CLUB ★★ THE 1st ANNIVERSARY!!!
LOCATION:OBEN
END:VEVENT
END:VCALENDAR


