BEGIN:VCALENDAR
VERSION:2.0
PRODID:-//hacksw/handcal//NONSGML v1.0//EN
BEGIN:VEVENT
UID:7280
DTSTART;VALUE=DATE:20161119
URL;VALUE=URI:ohschonhell.at/?page_id=14078
SUMMARY:BEAT IT Saturday Special
LOCATION:FLEX
END:VEVENT
END:VCALENDAR


