BEGIN:VCALENDAR
VERSION:2.0
PRODID:-//hacksw/handcal//NONSGML v1.0//EN
BEGIN:VEVENT
UID:7281
DTSTART;VALUE=DATE:20161119
URL;VALUE=URI:ohschonhell.at/?page_id=14080
SUMMARY:Grätzlsound - Augen zu und tanzen
LOCATION:RADIO - THE LABEL BAR
END:VEVENT
END:VCALENDAR


